BEGIN:VCALENDAR
VERSION:2.0
PRODID:-//Faith Apostolic Church - ECPv5.16.4//NONSGML v1.0//EN
CALSCALE:GREGORIAN
METHOD:PUBLISH
X-WR-CALNAME:Faith Apostolic Church
X-ORIGINAL-URL:https://faithapostolic.church
X-WR-CALDESC:Events for Faith Apostolic Church
BEGIN:VTIMEZONE
TZID:America/Chicago
BEGIN:DAYLIGHT
TZOFFSETFROM:-0600
TZOFFSETTO:-0500
TZNAME:CDT
DTSTART:20210314T080000
END:DAYLIGHT
BEGIN:STANDARD
TZOFFSETFROM:-0500
TZOFFSETTO:-0600
TZNAME:CST
DTSTART:20211107T070000
END:STANDARD
END:VTIMEZONE
BEGIN:VEVENT
DTSTART;TZID=America/Chicago:20211023T110000
DTEND;TZID=America/Chicago:20211023T140000
DTSTAMP:20260423T171242
CREATED:20201024T210744Z
LAST-MODIFIED:20211008T010947Z
UID:1514-1634986800-1634997600@faithapostolic.church
SUMMARY:NEXT
DESCRIPTION:NEXT is a leadership development initiative for youth\, high school through age 40.  \nThe focus of this meeting will be evangelism. “You Were Born For This” by Bruce H. Wilkinson should be read prior to this event. Rev. Josh Wilson will be our guest speaker.
URL:https://faithapostolic.church/event/next-4/
LOCATION:Faith Apostolic Church\, 7887 Poplar Avenue\, Germantown\, TN\, 38138\, United States
ATTACH;FMTTYPE=image/jpeg:https://faithapostolic.church/wp-content/uploads/2020/10/NEXT2020_SM.jpg
END:VEVENT
END:VCALENDAR