BEGIN:VCALENDAR
VERSION:2.0
PRODID:-//Faith Apostolic Church - ECPv5.16.4//NONSGML v1.0//EN
CALSCALE:GREGORIAN
METHOD:PUBLISH
X-WR-CALNAME:Faith Apostolic Church
X-ORIGINAL-URL:https://faithapostolic.church
X-WR-CALDESC:Events for Faith Apostolic Church
BEGIN:VTIMEZONE
TZID:America/Chicago
BEGIN:DAYLIGHT
TZOFFSETFROM:-0600
TZOFFSETTO:-0500
TZNAME:CDT
DTSTART:20210314T080000
END:DAYLIGHT
BEGIN:STANDARD
TZOFFSETFROM:-0500
TZOFFSETTO:-0600
TZNAME:CST
DTSTART:20211107T070000
END:STANDARD
END:VTIMEZONE
BEGIN:VEVENT
DTSTART;TZID=America/Chicago:20211018T180000
DTEND;TZID=America/Chicago:20211018T235900
DTSTAMP:20260423T080653
CREATED:20211008T012249Z
LAST-MODIFIED:20211008T012249Z
UID:2431-1634580000-1634601540@faithapostolic.church
SUMMARY:Memphis Prayer 365
DESCRIPTION:We can think of no better way to serve our city than to pray over it 365 days of the year. We are joining with churches all over the Memphis metro to cover our city in prayer. As a church\, we are setting aside the eighteenth day of every month as a day of prayer and fasting. We are asking you to commit to pray for 30 minutes on that day\, and if the Lord leads you\, to also fast. Whether you fast from one meal or for the entire day\, please seek God’s presence and power during this time.
URL:https://faithapostolic.church/event/memphis-prayer-365/
ATTACH;FMTTYPE=image/jpeg:https://faithapostolic.church/wp-content/uploads/2021/09/MemphisPrayer365_ChanelStorePoster.jpg
END:VEVENT
END:VCALENDAR