BEGIN:VCALENDAR
VERSION:2.0
PRODID:-//Faith Apostolic Church - ECPv5.16.4//NONSGML v1.0//EN
CALSCALE:GREGORIAN
METHOD:PUBLISH
X-WR-CALNAME:Faith Apostolic Church
X-ORIGINAL-URL:https://faithapostolic.church
X-WR-CALDESC:Events for Faith Apostolic Church
BEGIN:VTIMEZONE
TZID:America/Chicago
BEGIN:DAYLIGHT
TZOFFSETFROM:-0600
TZOFFSETTO:-0500
TZNAME:CDT
DTSTART:20210314T080000
END:DAYLIGHT
BEGIN:STANDARD
TZOFFSETFROM:-0500
TZOFFSETTO:-0600
TZNAME:CST
DTSTART:20211107T070000
END:STANDARD
END:VTIMEZONE
BEGIN:VEVENT
DTSTART;TZID=America/Chicago:20210920T193000
DTEND;TZID=America/Chicago:20210920T220000
DTSTAMP:20260423T115248
CREATED:20201105T233050Z
LAST-MODIFIED:20210513T232305Z
UID:1931-1632166200-1632175200@faithapostolic.church
SUMMARY:Fall Revival
DESCRIPTION:Join us for our Fall Revival. Rev. Robin Johnson will be the evangelist.
URL:https://faithapostolic.church/event/fall-revival/
LOCATION:Faith Apostolic Church\, 7887 Poplar Avenue\, Germantown\, TN\, 38138\, United States
END:VEVENT
END:VCALENDAR