BEGIN:VCALENDAR
VERSION:2.0
PRODID:-//Faith Apostolic Church - ECPv5.16.4//NONSGML v1.0//EN
CALSCALE:GREGORIAN
METHOD:PUBLISH
X-WR-CALNAME:Faith Apostolic Church
X-ORIGINAL-URL:https://faithapostolic.church
X-WR-CALDESC:Events for Faith Apostolic Church
BEGIN:VTIMEZONE
TZID:America/Chicago
BEGIN:DAYLIGHT
TZOFFSETFROM:-0600
TZOFFSETTO:-0500
TZNAME:CDT
DTSTART:20210314T080000
END:DAYLIGHT
BEGIN:STANDARD
TZOFFSETFROM:-0500
TZOFFSETTO:-0600
TZNAME:CST
DTSTART:20211107T070000
END:STANDARD
END:VTIMEZONE
BEGIN:VEVENT
DTSTART;TZID=America/Chicago:20211017T140000
DTEND;TZID=America/Chicago:20211017T153000
DTSTAMP:20260423T061837
CREATED:20210205T042514Z
LAST-MODIFIED:20210220T020703Z
UID:2115-1634479200-1634484600@faithapostolic.church
SUMMARY:DNA Live
DESCRIPTION:DNA is FAITH’s ministry to children from ages four to twelve. DNA Live provides a high-energy format designed to teach your children Biblical stories and concepts.
URL:https://faithapostolic.church/event/dna-live-6/
LOCATION:Faith Apostolic Church\, 7887 Poplar Avenue\, Germantown\, TN\, 38138\, United States
ATTACH;FMTTYPE=image/jpeg:https://faithapostolic.church/wp-content/uploads/2021/02/DNA-LIVE_SM.jpg
END:VEVENT
END:VCALENDAR