BEGIN:VCALENDAR
VERSION:2.0
PRODID:-//Faith Apostolic Church - ECPv5.16.4//NONSGML v1.0//EN
CALSCALE:GREGORIAN
METHOD:PUBLISH
X-WR-CALNAME:Faith Apostolic Church
X-ORIGINAL-URL:https://faithapostolic.church
X-WR-CALDESC:Events for Faith Apostolic Church
BEGIN:VTIMEZONE
TZID:America/Chicago
BEGIN:DAYLIGHT
TZOFFSETFROM:-0600
TZOFFSETTO:-0500
TZNAME:CDT
DTSTART:20210314T080000
END:DAYLIGHT
BEGIN:STANDARD
TZOFFSETFROM:-0500
TZOFFSETTO:-0600
TZNAME:CST
DTSTART:20211107T070000
END:STANDARD
END:VTIMEZONE
BEGIN:VEVENT
DTSTART;TZID=America/Chicago:20211004T190000
DTEND;TZID=America/Chicago:20211004T210000
DTSTAMP:20260422T171019
CREATED:20201024T195311Z
LAST-MODIFIED:20201024T195311Z
UID:1484-1633374000-1633381200@faithapostolic.church
SUMMARY:Department Heads Meeting
DESCRIPTION:
URL:https://faithapostolic.church/event/department-heads-meeting-4/
LOCATION:Faith Apostolic Church\, 7887 Poplar Avenue\, Germantown\, TN\, 38138\, United States
END:VEVENT
END:VCALENDAR