BEGIN:VCALENDAR
VERSION:2.0
PRODID:-//Faith Apostolic Church - ECPv5.16.4//NONSGML v1.0//EN
CALSCALE:GREGORIAN
METHOD:PUBLISH
X-WR-CALNAME:Faith Apostolic Church
X-ORIGINAL-URL:https://faithapostolic.church
X-WR-CALDESC:Events for Faith Apostolic Church
BEGIN:VTIMEZONE
TZID:America/Chicago
BEGIN:DAYLIGHT
TZOFFSETFROM:-0600
TZOFFSETTO:-0500
TZNAME:CDT
DTSTART:20210314T080000
END:DAYLIGHT
BEGIN:STANDARD
TZOFFSETFROM:-0500
TZOFFSETTO:-0600
TZNAME:CST
DTSTART:20211107T070000
END:STANDARD
END:VTIMEZONE
BEGIN:VEVENT
DTSTART;TZID=America/Chicago:20210919T140000
DTEND;TZID=America/Chicago:20210919T153000
DTSTAMP:20260423T134738
CREATED:20201025T013623Z
LAST-MODIFIED:20201105T232855Z
UID:1748-1632060000-1632065400@faithapostolic.church
SUMMARY:Back To Church Sunday
DESCRIPTION:Join us for Back To Church Sunday\, a national initiative to encourage church attendance. Our guest speaker will be Rev. Robin Johnson.
URL:https://faithapostolic.church/event/back-to-church-sunday-2/
LOCATION:Faith Apostolic Church\, 7887 Poplar Avenue\, Germantown\, TN\, 38138\, United States
END:VEVENT
END:VCALENDAR